BEGIN:VCALENDAR
VERSION:2.0
PRODID:-//CFAR - ECPv6.15.14//NONSGML v1.0//EN
CALSCALE:GREGORIAN
METHOD:PUBLISH
X-ORIGINAL-URL:https://cfar.org
X-WR-CALDESC:Évènements pour CFAR
REFRESH-INTERVAL;VALUE=DURATION:PT1H
X-Robots-Tag:noindex
X-PUBLISHED-TTL:PT1H
BEGIN:VTIMEZONE
TZID:Europe/Paris
BEGIN:DAYLIGHT
TZOFFSETFROM:+0100
TZOFFSETTO:+0200
TZNAME:CEST
DTSTART:20220327T010000
END:DAYLIGHT
BEGIN:STANDARD
TZOFFSETFROM:+0200
TZOFFSETTO:+0100
TZNAME:CET
DTSTART:20221030T010000
END:STANDARD
BEGIN:DAYLIGHT
TZOFFSETFROM:+0100
TZOFFSETTO:+0200
TZNAME:CEST
DTSTART:20230326T010000
END:DAYLIGHT
BEGIN:STANDARD
TZOFFSETFROM:+0200
TZOFFSETTO:+0100
TZNAME:CET
DTSTART:20231029T010000
END:STANDARD
BEGIN:DAYLIGHT
TZOFFSETFROM:+0100
TZOFFSETTO:+0200
TZNAME:CEST
DTSTART:20240331T010000
END:DAYLIGHT
BEGIN:STANDARD
TZOFFSETFROM:+0200
TZOFFSETTO:+0100
TZNAME:CET
DTSTART:20241027T010000
END:STANDARD
END:VTIMEZONE
BEGIN:VEVENT
DTSTART;VALUE=DATE:20231116
DTEND;VALUE=DATE:20231118
DTSTAMP:20260420T094637
CREATED:20230707T075930Z
LAST-MODIFIED:20240516T091759Z
UID:63763-1700092800-1700265599@cfar.org
SUMMARY:CEEA n°5\, Ile-de-France : Système nerveux\, ALR\, douleur
DESCRIPTION:DPC SOUS RÉSERVE DE VALIDATION PAR L’AGENCE NATIONALE DU DPC\n \nLe Comité Européen d’Enseignement en Anesthésiologie (C.E.E.A.) organise\, dans les pays de la Communauté Européenne\, des cours de perfectionnement en Anesthésie\, dans le but de développer un enseignement post-universitaire de haut niveau\, constituant un standard européen de formation continue. Depuis 1998\, le cycle des cours de la C.E.E.A. est composé de six cours de deux journées et demie :\n1. Respiration et thorax\n2. Appareil cardiovasculaire\n3. Réanimation\, médecine d’urgence et transfusion\n4. Mère\, enfant\, réactions aux médicaments\n5. Système nerveux\, anesthésie locorégionale et traitement de la douleur\n6. Anesthésie pour divers types de chirurgie \nNous poursuivons le cycle de cours de la CEEA dans la région Ile-de-France en novembre 2023 par le cours n°5. \nIl est possible d’intégrer le nouveau cycle par n’importe lequel des six cours. Le contenu des cours est adapté aux progrès des connaissances\, de sorte qu’ils puissent garder leur caractère actuel de recyclage et être suivis régulièrement. \nDans les sujets qu’ils auront à traiter\, les enseignants choisiront les aspects nouveaux\, d’importance capitale ou de difficulté particulière. Le soir un échange direct aura lieu entre les participants et les enseignants\, principalement sous la forme d’atelier ou de tests de concordance de script. \nCLIQUEZ ICI POUR DÉCOUVRIR LE PROGRAMME\n \nDeux formules sont proposées : \n\n\n\nFORMULE 1 : séminaire résidentiel (avec hébergement 2 nuits et dîners) : 675€ (hors DPC)\nFORMULE 2 : séminaire non-résidentiel : 625€ (hors DPC)\n\n\n\nMODALITÉS D’INSCRIPTION :\nInscription en ligne depuis le site internet http://www.ceea-paris.fr/ ou envoi du bulletin d’inscription à Mme Nathalie DURIEUX : nathalie.durieux@aphp.fr / 01 56 01 65 36 \nPERSONNES EN SITUATION DE HANDICAP :\nFormation accessible aux professionnels anesthésistes-réanimateurs en situation de handicap. Merci de nous envoyer un message sur la boite mail : hcreus@cfar.org pour que nous puissions étudier les modalités d’adaptation à mettre en place\, en fonction du lieu d’accueil de la formation. \nDONNÉES DE SATISFACTION :\nA la question « Dans l’ensemble\, les sujets abordés vous ont-ils parus adaptés à vos préoccupations ?« \, 25 participants (sur 29) ont répondu « Très bien »\n(donnée recueillie auprès de 29 participants (sur 36) ayant répondu au questionnaire de satisfaction de la session CEEA Ile-de-France n°3 de novembre 2022)
URL:https://cfar.org/manifestation/ceea-n5-ile-de-france-systeme-nerveux-alr-douleur/
LOCATION:HEC – LE CHATEAU\, 5 rue de la Libération\, Jouy en Josas\, 78350
CATEGORIES:CFAR
ATTACH;FMTTYPE=image/png:https://cfar.org/wp-content/uploads/2023/02/ceea.png
ORGANIZER;CN="CFAR":MAILTO:formations@cfar.org
END:VEVENT
END:VCALENDAR