BEGIN:VCALENDAR
VERSION:2.0
PRODID:-//CFAR - ECPv6.15.14//NONSGML v1.0//EN
CALSCALE:GREGORIAN
METHOD:PUBLISH
X-WR-CALNAME:CFAR
X-ORIGINAL-URL:https://cfar.org
X-WR-CALDESC:Évènements pour CFAR
REFRESH-INTERVAL;VALUE=DURATION:PT1H
X-Robots-Tag:noindex
X-PUBLISHED-TTL:PT1H
BEGIN:VTIMEZONE
TZID:Europe/Paris
BEGIN:DAYLIGHT
TZOFFSETFROM:+0100
TZOFFSETTO:+0200
TZNAME:CEST
DTSTART:20200329T010000
END:DAYLIGHT
BEGIN:STANDARD
TZOFFSETFROM:+0200
TZOFFSETTO:+0100
TZNAME:CET
DTSTART:20201025T010000
END:STANDARD
BEGIN:DAYLIGHT
TZOFFSETFROM:+0100
TZOFFSETTO:+0200
TZNAME:CEST
DTSTART:20210328T010000
END:DAYLIGHT
BEGIN:STANDARD
TZOFFSETFROM:+0200
TZOFFSETTO:+0100
TZNAME:CET
DTSTART:20211031T010000
END:STANDARD
BEGIN:DAYLIGHT
TZOFFSETFROM:+0100
TZOFFSETTO:+0200
TZNAME:CEST
DTSTART:20220327T010000
END:DAYLIGHT
BEGIN:STANDARD
TZOFFSETFROM:+0200
TZOFFSETTO:+0100
TZNAME:CET
DTSTART:20221030T010000
END:STANDARD
END:VTIMEZONE
BEGIN:VEVENT
DTSTART;VALUE=DATE:20210923
DTEND;VALUE=DATE:20210926
DTSTAMP:20260426T033445
CREATED:20210429T143909Z
LAST-MODIFIED:20240516T091732Z
UID:36853-1632355200-1632614399@cfar.org
SUMMARY:Congrès SFAR 2021
DESCRIPTION:Le CFAR sera présent au prochain Congrès SFAR\, qui se déroulera au Palais des Congrès de Paris du 23 au 25 septembre 2021. Trois programmes DPC seront proposés cette année : deux programmes à destination des médecins anesthésistes-réanimateurs\, un programme à destination des IADE. \n  \nDPC MÉDECINS ANESTHESISTES-REANIMATEURS\n\nCurarisation et décurarisation en anesthésie – référence DPC 16382100061 – le programme ici\nPrise en charge de la patiente avec une pré-éclampsie sévère – référence DPC 16382100060 – le programme ici\n\nVous pouvez d’ores et déjà vous inscrire à l’un de ces programmes DPC depuis le site du congrès\, à l’adresse https://www.sfar-lecongres.com/inscription/inscription-dpc.\nTarif : 570€\nL’inscription DPC vous donne accès à l’ensemble du congrès (hors ateliers) pour toute sa durée. Vous n’avez aucun frais à avancer au moment de votre inscription (prise en charge via votre employeur ou l’ANDPC). \nFormation ouverte aux professionnels en situation de handicap : Vous pouvez contacter Mme Hélène CREUS (hcreus@cfar.org / 01 45 20 72 73) afin d’obtenir tous les renseignements utiles et nécessaires. \nMAJ 02/08/2021 : La session IADE Gestion des abords vasculaires initialement proposée\, est annulée.\nInscription : Depuis le site du congrès\, à l’adresse https://www.sfar-lecongres.com/inscription/inscription-dpc. L’inscription DPC vous donne accès à l’ensemble du congrès (hors ateliers)\, pour toute sa durée. \n  \nDONNEES DE SATISFACTION :\ndonnées non-recueillies en 2020 : Congrès annulé du fait de la crise sanitaire de la COVID-19
URL:https://cfar.org/manifestation/congres-sfar-2021/
LOCATION:Palais des Congrès de Paris\, 2 Place de la Porte Maillot\, Paris\, 75017\, France
CATEGORIES:CFAR,DPC
ATTACH;FMTTYPE=image/jpeg:https://cfar.org/wp-content/uploads/2021/04/SFAR2021BANNIERE728X200.jpg
ORGANIZER;CN="CFAR":MAILTO:formations@cfar.org
END:VEVENT
END:VCALENDAR