BEGIN:VCALENDAR
VERSION:2.0
PRODID:-//CFAR - ECPv6.15.14//NONSGML v1.0//EN
CALSCALE:GREGORIAN
METHOD:PUBLISH
X-WR-CALNAME:CFAR
X-ORIGINAL-URL:https://cfar.org
X-WR-CALDESC:Évènements pour CFAR
REFRESH-INTERVAL;VALUE=DURATION:PT1H
X-Robots-Tag:noindex
X-PUBLISHED-TTL:PT1H
BEGIN:VTIMEZONE
TZID:Europe/Paris
BEGIN:DAYLIGHT
TZOFFSETFROM:+0100
TZOFFSETTO:+0200
TZNAME:CEST
DTSTART:20230326T010000
END:DAYLIGHT
BEGIN:STANDARD
TZOFFSETFROM:+0200
TZOFFSETTO:+0100
TZNAME:CET
DTSTART:20231029T010000
END:STANDARD
BEGIN:DAYLIGHT
TZOFFSETFROM:+0100
TZOFFSETTO:+0200
TZNAME:CEST
DTSTART:20240331T010000
END:DAYLIGHT
BEGIN:STANDARD
TZOFFSETFROM:+0200
TZOFFSETTO:+0100
TZNAME:CET
DTSTART:20241027T010000
END:STANDARD
BEGIN:DAYLIGHT
TZOFFSETFROM:+0100
TZOFFSETTO:+0200
TZNAME:CEST
DTSTART:20250330T010000
END:DAYLIGHT
BEGIN:STANDARD
TZOFFSETFROM:+0200
TZOFFSETTO:+0100
TZNAME:CET
DTSTART:20251026T010000
END:STANDARD
END:VTIMEZONE
BEGIN:VEVENT
DTSTART;VALUE=DATE:20240518
DTEND;VALUE=DATE:20240519
DTSTAMP:20260424T210707
CREATED:20231211T095135Z
LAST-MODIFIED:20240516T092121Z
UID:61055-1715990400-1716076799@cfar.org
SUMMARY:Journée ARRES : Maîtrise des risques du parcours de soins périopératoire des patients pris en charge en anesthésie
DESCRIPTION:Référence DPC : 16382325006\nDepuis 2005\, les associations ARRES (Association dénommée Anesthésie-Réanimation Risques et Solutions) et ASSPRO (Association de Prévention du Risque Opératoire) proposent un programme de prévention du risque en anesthésie réanimation organisé sous la forme de journées de formation. Le programme de chaque cycle d’enseignement est proposé dans 5 villes différentes par an sur 2 ans. Seuls les actualisations et l’exposé de l’Intervenant local varient au cours du cycle. \nCes journées de formation sont labellisées « Sessions Gestion du Risque » par le CFAR\, organisme agréé par la HAS pour l’Accréditation (OA-A) des médecins Anesthésistes-Réanimateurs. Elles permettent de valider l’obligation présentielle du programme d’accréditation des médecins. \nLes journées ARRES-ASSPRO sont ouvertes à tous les anesthésistes réanimateurs quels que soient leurs assureurs ou leur mode d’exercice. Les médecins en formation sont également invités à s’inscrire. \nPROGRAMME DISPONIBLE ICI \nMODALITÉS DE VALIDATION DPC\n \nRéalisation obligatoire de Tests de Concordance de Script pendant la journée de formation\, et quelques semaines après la journée. Sans cela\, le DPC n’est pas validé. \n  \nMODALITÉS D’INSCRIPTION \n\ninscription à la journée auprès d’ASSPRO (70€) : vous pouvez joindre Mme Claire SAUJOT à ASSPRO : 01 55 07 15 15\, ou vous inscrire en ligne sur le site d’ASSPRO.\ninscription DPC en parallèle de l’inscription à ASSPRO (prise en charge par l’employer ou l’ANDPC en fonction de votre statut) :\n\n\nvia le site agencedpc.fr/professionnel pour les médecins libéraux\n\npar convention DPC pour les médecins salariés : convention DPC sur demande à adresser à hcreus@cfar.org\n\n\n  \nACCESSIBILITÉ\nFormation ouverte aux professionnels en situation de handicap.\nVous pouvez contacter Mme Hélène CREUS (hcreus@cfar.org / 01 45 20 72 73) afin d’obtenir tous les renseignements utiles et nécessaires. \n  \nDONNÉES DE SATISFACTION\nAvez-vous acquis des données nouvelles pour votre pratique médicale ? \n                       \n(données recueillies auprès de 124 participants de la session de Lyon en janvier 2023)
URL:https://cfar.org/manifestation/journee-arres-maitrise-des-risques-du-parcours-de-soins-perioperatoire-des-patients-pris-en-charge-en-anesthesie-6/
LOCATION:Hôtel Mercure Marseille Centre Vieux Port\, 1 rue Neuve Saint-Martin\, MARSEILLE\, 13001\, France
CATEGORIES:DPC
ATTACH;FMTTYPE=image/png:https://cfar.org/wp-content/uploads/2021/12/Capture-décran-2021-12-14-à-15.43.26.png
END:VEVENT
END:VCALENDAR