BEGIN:VCALENDAR
VERSION:2.0
PRODID:-//CFAR - ECPv6.15.14//NONSGML v1.0//EN
CALSCALE:GREGORIAN
METHOD:PUBLISH
X-WR-CALNAME:CFAR
X-ORIGINAL-URL:https://cfar.org
X-WR-CALDESC:Évènements pour CFAR
REFRESH-INTERVAL;VALUE=DURATION:PT1H
X-Robots-Tag:noindex
X-PUBLISHED-TTL:PT1H
BEGIN:VTIMEZONE
TZID:UTC
BEGIN:STANDARD
TZOFFSETFROM:+0000
TZOFFSETTO:+0000
TZNAME:UTC
DTSTART:20220101T000000
END:STANDARD
END:VTIMEZONE
BEGIN:VEVENT
DTSTART;VALUE=DATE:20231009
DTEND;VALUE=DATE:20231012
DTSTAMP:20260424T140405
CREATED:20220623T135257Z
LAST-MODIFIED:20220623T135257Z
UID:63969-1696809600-1697068799@cfar.org
SUMMARY:CEEA n°1\, région Nord de France : Thorax et respiration
DESCRIPTION:Référence DPC : 16382325044\n \nLe Comité Européen d’Enseignement en Anesthésiologie (C.E.E.A.) organise\, dans les pays de la Communauté Européenne\, des cours de perfectionnement en Anesthésie\, dans le but de développer un enseignement post-universitaire de haut niveau\, constituant un standard européen de formation continue\, compatible avec les exigences du DPC. Depuis 1998\, le cycle des cours de la C.E.E.A. est composé de six cours de deux journées et demie :\n1. Respiration et thorax\n2. Appareil cardiovasculaire\n3. Réanimation\, médecine d’urgence et transfusion\n4. Mère\, enfant\, réactions aux médicaments\n5. Système nerveux\, anesthésie locorégionale et traitement de la douleur\n6. Anesthésie pour divers types de chirurgie. \nNous poursuivons le cycle de cours de la CEEA dans la région Nord de France – Belgique en octobre 2023 par le cours n° 1. \nIl est possible d’intégrer le nouveau cycle par n’importe lequel des six cours. Le contenu des cours est adapté aux progrès des connaissances\, de sorte qu’ils puissent garder leur caractère actuel de recyclage et être suivis régulièrement. \nDans les sujets qu’ils auront à traiter\, les enseignants choisiront les aspects nouveaux\, d’importance capitale ou de difficulté particulière. Le soir un échange direct aura lieu entre les participants et les enseignants\, principalement sous la forme d’atelier ou de discussion de cas cliniques. \nCLIQUEZ ICI POUR DECOUVRIR LE PROGRAMME\n \nDeux formules sont proposées : \n\nFORMULE 1 : séminaire résidentiel : 700€ (850€ avec DPC)\nFORMULE 2 : séminaire non-résidentiel : 560€ (710€ avec DPC)\n\nMODALITÉS D’INSCRIPTION :\n– Etape 1 : Inscription en ligne sur le site http://www.ceea-lille.com/\n– Etape 2 : Inscription DPC parallèle auprès du CFAR : par convention de formation pour les médecins salariés\, via le site mondpc.fr pour les médecins libéraux \nCONTACTS :\n– Organisateur : Mme Isabelle SIMPOL au secrétariat d’anesthésie de l’Hôpital Huriez à Lille : 03 20 44 45 08 / isabelle.simpol@chu-lille.fr\n– Gestion des conventions / Prises en charge : Mme Hélène CREUS au CFAR : 01 45 20 72 73 / hcreus@cfar.org \nDonnées de satisfaction :\nA VENIR
URL:https://cfar.org/manifestation/ceea-n6-region-nord-de-france-anesthesie-pour-differents-types-de-patients-et-de-chirurgies-2/
LOCATION:La Chartreuse du Val Saint Esprit\, 1 rue de Fouquières\, GOSNAY\, 62199
CATEGORIES:DPC
ATTACH;FMTTYPE=image/png:https://cfar.org/wp-content/uploads/2023/02/ceea.png
ORGANIZER;CN="CFAR":MAILTO:formations@cfar.org
END:VEVENT
END:VCALENDAR