BEGIN:VCALENDAR
VERSION:2.0
PRODID:-//CFAR - ECPv6.15.14//NONSGML v1.0//EN
CALSCALE:GREGORIAN
METHOD:PUBLISH
X-WR-CALNAME:CFAR
X-ORIGINAL-URL:https://cfar.org
X-WR-CALDESC:Évènements pour CFAR
REFRESH-INTERVAL;VALUE=DURATION:PT1H
X-Robots-Tag:noindex
X-PUBLISHED-TTL:PT1H
BEGIN:VTIMEZONE
TZID:UTC
BEGIN:STANDARD
TZOFFSETFROM:+0000
TZOFFSETTO:+0000
TZNAME:UTC
DTSTART:20210101T000000
END:STANDARD
END:VTIMEZONE
BEGIN:VEVENT
DTSTART;VALUE=DATE:20221207
DTEND;VALUE=DATE:20221210
DTSTAMP:20260424T171720
CREATED:20220429T123624Z
LAST-MODIFIED:20240516T091748Z
UID:45205-1670371200-1670630399@cfar.org
SUMMARY:CEEA n°4\, Aix-les-Bains : Mère\, enfant\, interactions médicamenteuses
DESCRIPTION:Référence DPC : 16382200084\n \nLe Comité Européen d’Enseignement en Anesthésiologie (C.E.E.A.) organise\, dans les pays de la Communauté Européenne\, des cours de perfectionnement en Anesthésie\, dans le but de développer un enseignement post-universitaire de haut niveau\, constituant un standard européen de formation continue\, compatible avec les exigences du DPC. Depuis 1998\, le cycle des cours de la C.E.E.A. est composé de six cours de deux journées et demie :\n1. Respiration et thorax\n2. Appareil cardiovasculaire\n3. Réanimation\, médecine d’urgence et transfusion\n4. Mère\, enfant\, réactions aux médicaments\n5. Système nerveux\, anesthésie locorégionale et traitement de la douleur\n6. Anesthésie pour divers types de chirurgie. \nNous poursuivons le cycle de cours de la CEEA dans la région d’Aix-les-Bains en décembre 2022 par le cours n° 4. \nIl est possible d’intégrer le nouveau cycle par n’importe lequel des six cours. Le contenu des cours est adapté aux progrès des connaissances\, de sorte qu’ils puissent garder leur caractère actuel de recyclage et être suivis régulièrement. \nDans les sujets qu’ils auront à traiter\, les enseignants choisiront les aspects nouveaux\, d’importance capitale ou de difficulté particulière. Le soir un échange direct aura lieu entre les participants et les enseignants\, principalement sous la forme d’atelier ou de tests de concordance de script. \nChaque cours a été remodelé pour obéir aux exigences d’un programme de développement professionnel continu (DPC) et comportera une partie cognitive et une partie d’évaluation de pratiques professionnelles par tests de concordance de scripts et QCM. Le programme est proposé par le Collège Français des Anesthésistes Réanimateurs (CFAR). Il permet ainsi aux médecins qui le souhaitent de valider leur obligation de DPC. \nCLIQUEZ ICI POUR TÉLÉCHARGER LE PROGRAMME \n  \nDeux formules sont proposées : \n\nFORMULE 1 : séminaire résidentiel (avec hébergement 2 nuits et dîners) : 750€\nFORMULE 2 : séminaire non-résidentiel : 650€\n\n  \nMODALITÉS D’INSCRIPTION :\nTéléchargez\, complétez et renvoyez la fiche d’inscription :\n– En cas d’inscription DPC\, aucun frais n’est à avancer. Le CFAR vous contactera pour les modalités de prise en charge (par convention DPC avec votre employeur si vous êtes médecin salarié\, ou par prise en charge via l’Agence nationale du DPC si vous êtes médecin libéral).\n– Si vous ne souhaitez pas valider votre DPC\, renvoyez la fiche avec un chèque correspondant au montant de votre formule. \nInscription à envoyer à Madame Buisson Christine CHU Grenoble Alpes – ANESTHESIE-REANIMATION CS 10217 – 38043 GRENOBLE CEDEX\nTel. 04 76 76 92 88 – FAX 04 76 76 51 83 – Mail : CBuisson1@chu-grenoble.fr \n  \nPERSONNES EN SITUATION DE HANDICAP :\nFormation accessible aux professionnels anesthésistes-réanimateurs en situation de handicap. Merci de nous envoyer un message sur la boite mail : hcreus@cfar.org pour que nous puissions étudier les modalités d’adaptation à mettre en place\, en fonction du lieu d’accueil de la formation. \n  \nDONNÉES DE SATISFACTION :\nNiveau d’intérêt des interventions : \n                       \n(données issues des 31 participants de la session 2021)
URL:https://cfar.org/manifestation/ceea-n4-aix-les-bains-mere-enfant-interactions-medicamenteuses/
LOCATION:Hôtel Adelphia\, 215 boulevard Barrier\, AIX-LES-BAINS\, 73105\, France
CATEGORIES:DPC
ATTACH;FMTTYPE=image/png:https://cfar.org/wp-content/uploads/2021/12/Capture-décran-2021-12-14-à-15.43.26.png
ORGANIZER;CN="CFAR":MAILTO:formations@cfar.org
END:VEVENT
END:VCALENDAR