BEGIN:VCALENDAR
VERSION:2.0
PRODID:-//CFAR - ECPv6.15.14//NONSGML v1.0//EN
CALSCALE:GREGORIAN
METHOD:PUBLISH
X-WR-CALNAME:CFAR
X-ORIGINAL-URL:https://cfar.org
X-WR-CALDESC:Évènements pour CFAR
REFRESH-INTERVAL;VALUE=DURATION:PT1H
X-Robots-Tag:noindex
X-PUBLISHED-TTL:PT1H
BEGIN:VTIMEZONE
TZID:Europe/Paris
BEGIN:DAYLIGHT
TZOFFSETFROM:+0100
TZOFFSETTO:+0200
TZNAME:CEST
DTSTART:20200329T010000
END:DAYLIGHT
BEGIN:STANDARD
TZOFFSETFROM:+0200
TZOFFSETTO:+0100
TZNAME:CET
DTSTART:20201025T010000
END:STANDARD
BEGIN:DAYLIGHT
TZOFFSETFROM:+0100
TZOFFSETTO:+0200
TZNAME:CEST
DTSTART:20210328T010000
END:DAYLIGHT
BEGIN:STANDARD
TZOFFSETFROM:+0200
TZOFFSETTO:+0100
TZNAME:CET
DTSTART:20211031T010000
END:STANDARD
BEGIN:DAYLIGHT
TZOFFSETFROM:+0100
TZOFFSETTO:+0200
TZNAME:CEST
DTSTART:20220327T010000
END:DAYLIGHT
BEGIN:STANDARD
TZOFFSETFROM:+0200
TZOFFSETTO:+0100
TZNAME:CET
DTSTART:20221030T010000
END:STANDARD
END:VTIMEZONE
BEGIN:VEVENT
DTSTART;VALUE=DATE:20211105
DTEND;VALUE=DATE:20211106
DTSTAMP:20260426T051426
CREATED:20211012T135506Z
LAST-MODIFIED:20211012T135506Z
UID:63945-1636070400-1636156799@cfar.org
SUMMARY:CBAV 2021
DESCRIPTION:Le Collège Breton d’Accès Vasculaire organise son premier Congrès le 05 novembre 2021 à Quimper. \nDécouvrez le programme complet du Congrès sur la page Facebook du CBAV \n 
URL:https://cfar.org/manifestation/cbav-2021-prise-en-charge-des-acces-vasculaires-2/
LOCATION:Centre des congrès du Chapeau Rouge\, 1 Rue du Paradis\, QUIMPER\, 29000\, France
CATEGORIES:DPC
ATTACH;FMTTYPE=image/jpeg:https://cfar.org/wp-content/uploads/2021/10/cbav.jpg
ORGANIZER;CN="CFAR":MAILTO:formations@cfar.org
END:VEVENT
END:VCALENDAR